BEGIN:VCALENDAR
VERSION:2.0
PRODID:-//Susan Haefner - ECPv6.15.20//NONSGML v1.0//EN
CALSCALE:GREGORIAN
METHOD:PUBLISH
X-WR-CALNAME:Susan Haefner
X-ORIGINAL-URL:https://susanhaefner.com
X-WR-CALDESC:Events for Susan Haefner
REFRESH-INTERVAL;VALUE=DURATION:PT1H
X-Robots-Tag:noindex
X-PUBLISHED-TTL:PT1H
BEGIN:VTIMEZONE
TZID:UTC
BEGIN:STANDARD
TZOFFSETFROM:+0000
TZOFFSETTO:+0000
TZNAME:UTC
DTSTART:20250101T000000
END:STANDARD
END:VTIMEZONE
BEGIN:VEVENT
DTSTART;TZID=UTC:20260212T190000
DTEND;TZID=UTC:20260212T210000
DTSTAMP:20260421T084855
CREATED:20251229T145554Z
LAST-MODIFIED:20251229T145554Z
UID:2657-1770922800-1770930000@susanhaefner.com
SUMMARY:The Lovin' Cup Presents an Evening with In The Rough
DESCRIPTION:In The Rough (Lisa Brigantino\, Lori Brigantino and Susan Haefner) are excited to return to The Lovin’ Cup in Rochester\, NY.  In addition to Lisa’s original tunes\, In The Rough performs their own special take on cover songs that run the gamut of genres and musical styles from folk and a cappella to country\, old-time\, pop/rock\, novelty and more.  In The Rough will perform from 7pm ’til 9pm.  Doors open at 6pm. The Lovin’ Cup has terrific food and drink menus\, too! \nTickets are $15 in advance\, $20 at the door.   Get tickets in advance HERE and reserve your seats at a discount! \nPLEASE NOTE! SEATED TICKETS ARE LIMITED… If all seating sells out\, standing tickets will become available online and at the door. \n*** FYI – The Lovin’ Cup has upgraded their ticketing system which now allows folks to choose their tables when they purchase tickets. No more need to call and make reservations!
URL:https://susanhaefner.com/event/the-lovin-cup-presents-an-evening-with-in-the-rough-2-12-26/
LOCATION:The Lovin’ Cup\, 300 Park Point Drive\, Rochester\, NY\, 14623\, United States
CATEGORIES:Live
ATTACH;FMTTYPE=image/png:https://susanhaefner.com/wp-content/uploads/2025/12/ITR-LovinCup-2.12.26.png
END:VEVENT
BEGIN:VEVENT
DTSTART;TZID=UTC:20260215T150000
DTEND;TZID=UTC:20260215T163000
DTSTAMP:20260421T084855
CREATED:20251229T151105Z
LAST-MODIFIED:20251229T151105Z
UID:2660-1771167600-1771173000@susanhaefner.com
SUMMARY:A Midwinter Afternoon with In The Rough
DESCRIPTION:Little Yellow House Studio\, Old Parish Church & Wilder Memorial Library present A Midwinter Afternoon with In The Rough\, a concert featuring the vocal trio In The Rough (Lisa Brigantino\, Lori Brigantino and Susan Haefner) on Sunday\, February 15th at 3pm at the Old Parish Church in Weston\, VT.  The concert will include traditional and contemporary folk songs\, old-time tunes\, as well as original songs and even a sing-along.  Doors open at 2:30pm.  Suggested donation of $10.
URL:https://susanhaefner.com/event/a-midwinter-afternoon-with-in-the-rough-2/
LOCATION:Old Parish Church\, 100 Main Street\, Weston\, VT\, 05161\, United States
CATEGORIES:Live
ATTACH;FMTTYPE=image/png:https://susanhaefner.com/wp-content/uploads/2025/12/ITR-OPC-2.15.26.png
END:VEVENT
BEGIN:VEVENT
DTSTART;TZID=UTC:20260401T190000
DTEND;TZID=UTC:20260517T163000
DTSTAMP:20260421T084855
CREATED:20260313T143841Z
LAST-MODIFIED:20260313T143841Z
UID:2675-1775070000-1779035400@susanhaefner.com
SUMMARY:Birthday Candles at Florida Studio Theatre
DESCRIPTION:Susan will be appearing in Birthday Candles at Florida Studio Theatre from April 1st through May 17th. Click here for more info and tickets.
URL:https://susanhaefner.com/event/birthday-candles-at-florida-studio-theatre/
LOCATION:Florida Studio Theatre\, 1241 North Palm Avenue\, Sarasota\, FL\, 34236\, United States
CATEGORIES:Live
ATTACH;FMTTYPE=image/png:https://susanhaefner.com/wp-content/uploads/2026/03/Screenshot-2026-03-13-at-9.51.50-AM.png
END:VEVENT
END:VCALENDAR