BEGIN:VCALENDAR
VERSION:2.0
PRODID:-//Susan Haefner - ECPv6.15.20//NONSGML v1.0//EN
CALSCALE:GREGORIAN
METHOD:PUBLISH
X-WR-CALNAME:Susan Haefner
X-ORIGINAL-URL:https://susanhaefner.com
X-WR-CALDESC:Events for Susan Haefner
REFRESH-INTERVAL;VALUE=DURATION:PT1H
X-Robots-Tag:noindex
X-PUBLISHED-TTL:PT1H
BEGIN:VTIMEZONE
TZID:UTC
BEGIN:STANDARD
TZOFFSETFROM:+0000
TZOFFSETTO:+0000
TZNAME:UTC
DTSTART:20200101T000000
END:STANDARD
END:VTIMEZONE
BEGIN:VTIMEZONE
TZID:America/New_York
BEGIN:DAYLIGHT
TZOFFSETFROM:-0500
TZOFFSETTO:-0400
TZNAME:EDT
DTSTART:20190310T070000
END:DAYLIGHT
BEGIN:STANDARD
TZOFFSETFROM:-0400
TZOFFSETTO:-0500
TZNAME:EST
DTSTART:20191103T060000
END:STANDARD
BEGIN:DAYLIGHT
TZOFFSETFROM:-0500
TZOFFSETTO:-0400
TZNAME:EDT
DTSTART:20200308T070000
END:DAYLIGHT
BEGIN:STANDARD
TZOFFSETFROM:-0400
TZOFFSETTO:-0500
TZNAME:EST
DTSTART:20201101T060000
END:STANDARD
BEGIN:DAYLIGHT
TZOFFSETFROM:-0500
TZOFFSETTO:-0400
TZNAME:EDT
DTSTART:20210314T070000
END:DAYLIGHT
BEGIN:STANDARD
TZOFFSETFROM:-0400
TZOFFSETTO:-0500
TZNAME:EST
DTSTART:20211107T060000
END:STANDARD
END:VTIMEZONE
BEGIN:VEVENT
DTSTART;TZID=UTC:20210212T190000
DTEND;TZID=UTC:20210212T200000
DTSTAMP:20260420T032839
CREATED:20210210T202818Z
LAST-MODIFIED:20210210T203238Z
UID:2149-1613156400-1613160000@susanhaefner.com
SUMMARY:Virtual Valentine's Dance
DESCRIPTION:Please join us on Friday\, February 12 @ 7PM (Eastern)\, for a special Valentine’s Dance\, a community (without boundaries) event open to everyone led by Susan Haefner as part of New Thought Vermont’s series Love and Light.  \n\n\n\nAll are welcome to join in (or simply watch and enjoy) as we step into various musical styles in a lighthearted way\, using movement and spoken word to share a few laughs and enjoy some time together.  Come see\, laugh\, cheer\, be moved. . . and perhaps join the dance with those in the workshop!  Sign up HERE.
URL:https://susanhaefner.com/event/virtual-valentines-dance/
LOCATION:VT
ATTACH;FMTTYPE=image/png:https://susanhaefner.com/wp-content/uploads/2021/02/Screen-Shot-2021-02-10-at-1.45.58-PM.png
END:VEVENT
BEGIN:VEVENT
DTSTART;TZID=UTC:20210210T160000
DTEND;TZID=UTC:20210210T170000
DTSTAMP:20260420T032839
CREATED:20210129T220916Z
LAST-MODIFIED:20210129T221233Z
UID:2027-1612972800-1612976400@susanhaefner.com
SUMMARY:Incredible Lightness of Love Workshop
DESCRIPTION:New Thought Vermont presents Incredible Lightness of Love Workshop\nJOIN BROADWAY VETERAN AND ANDOVER RESIDENT SUSAN HAEFNER FOR THREE (3) WORKSHOP SESSIONS CULMINATING IN A SPECIAL COMMUNITY (WITHOUT BOUNDARIES) VIRTUAL VALENTINE’S DANCE.  IN THIS WORKSHOP SERIES\, WE WILL EXPLORE STORIES\, SONGS AND DANCES INSPIRED BY LOVE AND LIGHT.  WE WILL STEP INTO VARIOUS MUSICAL STYLES IN A LIGHTHEARTED WAY\, USING MOVEMENT AND SPOKEN WORD TO SHARE A FEW LAUGHS AND ENJOY SOME TIME TOGETHER.\nPLEASE WEAR SOMETHING COMFORTABLE TO MOVE IN\, AND IF YOU WOULD LIKE (CERTAINLY OPTIONAL)\, BE PREPARED TO SHARE A ONE MINUTE STORY ABOUT EXPERIENCING LOVE\, LIGHT AND BEAUTY.\nFEBRUARY DATES:  WEDNESDAY\, 2/3; FRIDAY\, 2/5; AND WEDNESDAY\, 2/10.\nTIME:  4 – 5PM (EASTERN TIME)\nSUGGESTED DONATION:  $45\nENROLLMENT IS LIMITED!\nINFORMATION TO REGISTER COMING SOON.
URL:https://susanhaefner.com/event/incredible-lightness-of-love-workshop-2-2/
LOCATION:VT
END:VEVENT
BEGIN:VEVENT
DTSTART;TZID=UTC:20210205T160000
DTEND;TZID=UTC:20210205T170000
DTSTAMP:20260420T032839
CREATED:20210129T220803Z
LAST-MODIFIED:20210129T220957Z
UID:2025-1612540800-1612544400@susanhaefner.com
SUMMARY:Incredible Lightness of Love Workshop
DESCRIPTION:New Thought Vermont presents Incredible Lightness of Love Workshop\nJOIN BROADWAY VETERAN AND ANDOVER RESIDENT SUSAN HAEFNER FOR THREE (3) WORKSHOP SESSIONS CULMINATING IN A SPECIAL COMMUNITY (WITHOUT BOUNDARIES) VIRTUAL VALENTINE’S DANCE.  IN THIS WORKSHOP SERIES\, WE WILL EXPLORE STORIES\, SONGS AND DANCES INSPIRED BY LOVE AND LIGHT.  WE WILL STEP INTO VARIOUS MUSICAL STYLES IN A LIGHTHEARTED WAY\, USING MOVEMENT AND SPOKEN WORD TO SHARE A FEW LAUGHS AND ENJOY SOME TIME TOGETHER.\nPLEASE WEAR SOMETHING COMFORTABLE TO MOVE IN\, AND IF YOU WOULD LIKE (CERTAINLY OPTIONAL)\, BE PREPARED TO SHARE A ONE MINUTE STORY ABOUT EXPERIENCING LOVE\, LIGHT AND BEAUTY.\nFEBRUARY DATES:  WEDNESDAY\, 2/3; FRIDAY\, 2/5; AND WEDNESDAY\, 2/10.\nTIME:  4 – 5PM (EASTERN TIME)\nSUGGESTED DONATION:  $45\nENROLLMENT IS LIMITED!\nINFORMATION TO REGISTER COMING SOON.
URL:https://susanhaefner.com/event/incredible-lightness-of-love-workshop-2/
LOCATION:VT
END:VEVENT
BEGIN:VEVENT
DTSTART;TZID=UTC:20210203T160000
DTEND;TZID=UTC:20210203T170000
DTSTAMP:20260420T032839
CREATED:20210125T004831Z
LAST-MODIFIED:20210125T005031Z
UID:1980-1612368000-1612371600@susanhaefner.com
SUMMARY:Incredible Lightness of Love Workshop
DESCRIPTION:New Thought Vermont presents Incredible Lightness of Love Workshop\nJOIN BROADWAY VETERAN AND ANDOVER RESIDENT SUSAN HAEFNER FOR THREE (3) WORKSHOP SESSIONS CULMINATING IN A SPECIAL COMMUNITY (WITHOUT BOUNDARIES) VIRTUAL VALENTINE’S DANCE.  IN THIS WORKSHOP SERIES\, WE WILL EXPLORE STORIES\, SONGS AND DANCES INSPIRED BY LOVE AND LIGHT.  WE WILL STEP INTO VARIOUS MUSICAL STYLES IN A LIGHTHEARTED WAY\, USING MOVEMENT AND SPOKEN WORD TO SHARE A FEW LAUGHS AND ENJOY SOME TIME TOGETHER.\nPLEASE WEAR SOMETHING COMFORTABLE TO MOVE IN\, AND IF YOU WOULD LIKE (CERTAINLY OPTIONAL)\, BE PREPARED TO SHARE A ONE MINUTE STORY ABOUT EXPERIENCING LOVE\, LIGHT AND BEAUTY.\nFEBRUARY DATES:  WEDNESDAY\, 2/3; FRIDAY\, 2/5; AND WEDNESDAY\, 2/10.\nTIME:  4 – 5PM (EASTERN TIME)\nSUGGESTED DONATION:  $45\nENROLLMENT IS LIMITED!\nINFORMATION TO REGISTER COMING SOON.
URL:https://susanhaefner.com/event/incredible-lightness-of-love-workshop/
LOCATION:VT
END:VEVENT
BEGIN:VEVENT
DTSTART;VALUE=DATE:20201112
DTEND;VALUE=DATE:20201130
DTSTAMP:20260420T032839
CREATED:20201007T105534Z
LAST-MODIFIED:20201007T110402Z
UID:1959-1605139200-1606694399@susanhaefner.com
SUMMARY:Tiny Necessary Theater: The Naked Librarian
DESCRIPTION:I’ll be appearing as Martha in Northern Stage’s The Naked Librarian\, streaming On Demand in November. Upper Valley playwright Marisa Smith (Mad Love\, Venus Rising) brings us a world premiere cycle of monologues that weave a tale of love\, regret\, family\, and how things change (or don’t) from generation to generation. When memory is so strong\, how can we make sure our best days are ahead of us? This is presented as a double featured with On the Harmful Effects of Tobacco by Anton Chekhov. Streaming on Demand 11/12 – 11/29. Click Here for more info.
URL:https://susanhaefner.com/event/the-naked-librarian/
LOCATION:VT
END:VEVENT
BEGIN:VEVENT
DTSTART;TZID=America/New_York:20201101T170000
DTEND;TZID=America/New_York:20201101T180000
DTSTAMP:20260420T032839
CREATED:20200919T211015Z
LAST-MODIFIED:20201002T134122Z
UID:1914-1604250000-1604253600@susanhaefner.com
SUMMARY:Make Yourself at Home
DESCRIPTION:“Make Yourself at Home” is the next virtual concert produced by Susan Haefner and Little Yellow House Studio.  The event will air on Okemo Valley TV’s YouTube Channel and will feature Susan and special guests Lisa and Lori Brigantino.  The concert will include well-known folk and old-time tunes as well as Lisa’s original songs. There will also be a special surprise guest! \nThe concert is free of charge\, although donations are gratefully accepted. Viewers are asked to consider a $15-20 donation\, which will directly support the work of Black River Independent School and Little Yellow House Studio Artists. Donations can be made online via Black River Independent School’s website\, or by check made out to “Black River Independent School” and mailed to Black River Independent School\, PO Box 485\, Ludlow\, VT 05149. Please note “CONCERT” on the check. Black River Independent School is a 501(c)3 non-profit organization. Your donation is tax deductible as allowed by law.
URL:https://susanhaefner.com/event/make-yourself-at-home/
LOCATION:Virtual
ATTACH;FMTTYPE=image/jpeg:https://susanhaefner.com/wp-content/uploads/2020/09/MYAH-final-small.jpg
END:VEVENT
BEGIN:VEVENT
DTSTART;TZID=America/New_York:20201002T153000
DTEND;TZID=America/New_York:20201002T163000
DTSTAMP:20260420T032839
CREATED:20201002T133626Z
LAST-MODIFIED:20201002T133812Z
UID:1953-1601652600-1601656200@susanhaefner.com
SUMMARY:Florida Rep Stage@Home - Musical Leading Ladies
DESCRIPTION:I’ll be singing a few Rosemary Clooney tunes… \nFlorida Rep is proud to kick off the NEW Fall 2020 Stage@Home series with the three remarkable women behind the recent blockbusters\, Cabaret\, Tenderly\, and Always…Patsy Cline. This week’s in-depth discussion looks at the actresses who brought the iconic women to vivid life on Florida Rep’s two stages. Audiences will hear what it takes to make it in the regional theatre\, what it was like working on the hit productions at Florida Rep\, and even hear these powerhouses sing from the musicals that made them famous in Southwest Florida. Don’t miss the fall kickoff with these remarkable artists.
URL:https://susanhaefner.com/event/florida-rep-stagehome-musical-leading-ladies/
LOCATION:Virtual
ATTACH;FMTTYPE=image/jpeg:https://susanhaefner.com/wp-content/uploads/2020/10/120430793_10158046857977585_8525372795626769506_o.jpg
END:VEVENT
BEGIN:VEVENT
DTSTART;TZID=America/New_York:20200929T190000
DTEND;TZID=America/New_York:20200929T190000
DTSTAMP:20260420T032839
CREATED:20200919T213003Z
LAST-MODIFIED:20200919T220711Z
UID:1932-1601406000-1601406000@susanhaefner.com
SUMMARY:Spotlight Tuesday
DESCRIPTION:Little  Yellow House Studio welcomes Job Ethan Christenson for the “final-for-now” conversation in their Spotlight Series.   Click here to register for the event.
URL:https://susanhaefner.com/event/spotlight-tuesday/
LOCATION:Virtual
ATTACH;FMTTYPE=image/jpeg:https://susanhaefner.com/wp-content/uploads/2020/09/1_Instagram-profile-picture-size-copy.jpg
END:VEVENT
END:VCALENDAR